BEGIN:VCALENDAR
VERSION:2.0
PRODID:-//Conexus Recruiting//NONSGML v1.0//EN
BEGIN:VEVENT
UID:12345
DTSTAMP:20250326T120000Z
DTSTART;TZID=America/Los_Angeles:20250417T170000
DTEND;TZID=America/Los_Angeles:20250417T193000
SUMMARY:Join Moss Adams and Conexus for an Exclusive Happy Hour for Entertainment Financial Executives
DESCRIPTION:Join over 50 top executives from the entertainment and media space, enjoy delicious appetizers and cocktails, and engage in meaningful conversations that could spark invaluable connections. 
LOCATION:Javier’s Century City - 10250 Santa Monica Blvd #1005 Los Angeles, CA 90067
ORGANIZER;CN=Conexus Recruiting:mailto:info@conexusrecruiting.com
ATTENDEE;CN=Mossadams:mailto:Stephanie.Campbell@mossadams.com
ATTENDEE;CN=Conexus:mailto:info@conexusrecruiting.com
CATEGORIES:Conference, Business
STATUS:CONFIRMED
CLASS:PUBLIC
PRIORITY:1
BEGIN:VALARM
TRIGGER:-PT48H
ACTION:DISPLAY
DESCRIPTION:Reminder: Join Moss Adams and Conexus for an Exclusive Happy Hour for Entertainment Financial Executives
END:VALARM
BEGIN:VALARM
TRIGGER:-PT24H
ACTION:DISPLAY
DESCRIPTION:Reminder: Join Moss Adams and Conexus for an Exclusive Happy Hour for Entertainment Financial Executives
END:VALARM
END:VEVENT
END:VCALENDAR
