BEGIN:VCALENDAR
VERSION:2.0
PRODID:-//Conexus Recruiting//NONSGML v1.0//EN
BEGIN:VEVENT
UID:67890
DTSTAMP:20250818T120000Z
DTSTART;TZID=America/Los_Angeles:20251022T074500
DTEND;TZID=America/Los_Angeles:20251022T100000
SUMMARY:Economic Forecast Breakfast
DESCRIPTION:We’re hosting an Economic Forecast Breakfast on Wednesday, October 22nd, co-sponsored with Baker Tilly & Bank of America.\n\nMeeting Time: Doors open at 7:45 AM; Presentation begins at 8:30 AM and concludes at 9:30 AM; post-event networking until 10.
LOCATION:Courtyard Los Angeles Sherman Oaks, 15433 Ventura Blvd., Sherman Oaks, California, USA, 91403
ORGANIZER;CN=Conexus Recruiting:mailto:info@conexusrecruiting.com
ATTENDEE;CN=Conexus:mailto:info@conexusrecruiting.com
CATEGORIES:Conference, Business
STATUS:CONFIRMED
CLASS:PUBLIC
PRIORITY:1
BEGIN:VALARM
TRIGGER:-PT48H
ACTION:DISPLAY
DESCRIPTION:Reminder: Economic Forecast Breakfast - 48 hours remaining
END:VALARM
BEGIN:VALARM
TRIGGER:-PT24H
ACTION:DISPLAY
DESCRIPTION:Reminder: Economic Forecast Breakfast - 24 hours remaining
END:VALARM
END:VEVENT
END:VCALENDAR